BEGIN:VCALENDAR
VERSION:2.0
PRODID:-//Naturdata - ECPv6.15.17.1//NONSGML v1.0//EN
CALSCALE:GREGORIAN
METHOD:PUBLISH
X-ORIGINAL-URL:https://naturdata.no
X-WR-CALDESC:Arrangement for Naturdata
REFRESH-INTERVAL;VALUE=DURATION:PT1H
X-Robots-Tag:noindex
X-PUBLISHED-TTL:PT1H
BEGIN:VTIMEZONE
TZID:Europe/Oslo
BEGIN:DAYLIGHT
TZOFFSETFROM:+0100
TZOFFSETTO:+0200
TZNAME:CEST
DTSTART:20240331T010000
END:DAYLIGHT
BEGIN:STANDARD
TZOFFSETFROM:+0200
TZOFFSETTO:+0100
TZNAME:CET
DTSTART:20241027T010000
END:STANDARD
BEGIN:DAYLIGHT
TZOFFSETFROM:+0100
TZOFFSETTO:+0200
TZNAME:CEST
DTSTART:20250330T010000
END:DAYLIGHT
BEGIN:STANDARD
TZOFFSETFROM:+0200
TZOFFSETTO:+0100
TZNAME:CET
DTSTART:20251026T010000
END:STANDARD
BEGIN:DAYLIGHT
TZOFFSETFROM:+0100
TZOFFSETTO:+0200
TZNAME:CEST
DTSTART:20260329T010000
END:DAYLIGHT
BEGIN:STANDARD
TZOFFSETFROM:+0200
TZOFFSETTO:+0100
TZNAME:CET
DTSTART:20261025T010000
END:STANDARD
END:VTIMEZONE
BEGIN:VEVENT
DTSTART;TZID=Europe/Oslo:20251120T110000
DTEND;TZID=Europe/Oslo:20251121T130000
DTSTAMP:20260420T125403
CREATED:20250901T080405Z
LAST-MODIFIED:20251104T134130Z
UID:859-1763636400-1763730000@naturdata.no
SUMMARY:Naturdatas viltkonferanse 2025
DESCRIPTION:Årets viltkonferanse gjennomføres på Scandic Hell Værnes 20.-21. november\, fra lunsj til lunsj. \nVelkommen til Naturdatas viltkonferanse på Scandic Hell Stjørdal 20.-21. november 2025 \nTorsdag 20. november \n11.00  Oppmøte & registrering \n11.30  Lunsj \n12.30  Oppstart av program v/ Naturdata \nVilt praktisk kommunesamarbeid – erfaringer fra Viltforvaltningsrådet Salten v/ Gunnar Svalbjørg\, viltforvalter i Steigen kommune \nJegers ansvar ved skytetrening og håndtering av våpen v/ Anne-Britt Sollie Fladvad \nAktiv rådyrforvalting etter bestandsplan v/ Kristian Berglund\, viltforvalter \nKompetansesenter for ettersøk v/ Øyvind Juliussen\, Skogkurs \nProsjekt WILDETECT: Kan bruk av sensorer\, data og maskinlæring hjelpe oss å beskytte både mennesker og dyr – og gjøre transporten tryggere for alle?  v/Terje Moen\, SINTEF \n Hvordan gjennomføre riktig avskytning i nye hjorteområder – Johan Trygve Solheim \n19.00   Middag \n  \nFredag 21. november \n09.00 Nytt fra Landbruksdirektoratet og gjennomgang av Hjorteviltstrategien v/ Runar Myrvang \nBeiteproblematikk hjort  v/ Even Unsgård\, Nibio \nForprosjekt Evaluering av regionale og kommunale planer i villreinfjellet  v/ Einy Brænd\, Norsk villreinsenter \nSkal Norturas eller Darwin lære styre viltforvaltningen? – kåseri med film og bilder v/ Arne Nævra \n13.00  Lunsj og avreise \n  \nVi er glade for å presentere våre foredragsholdere. \nFørst ut er  Arne Nævra \nSkal Norturas eller Darwin lære styre viltforvaltningen?  \n– kåseri med film og bilder \nArne Nævra er biolog og en av Nordens mest profilerte naturfilmskapere\, kjent fra utallige programmer og serier på NRK.\nMange vil huske serier som Villdyr og villmark\, Norske Naturperler\, Norges Villmarker\, Min Natur\, magasinet Ut i Naturen osv.  \nHan har alltid vært opptatt av dyreatferd og hvordan slike studier også kan lære oss noe innen forvaltningen.  \n \nSett av datoene til innholdsrike og trivelige dager på Scandic Hell
URL:https://naturdata.no/arrangement/naturdatas-viltkonferanse-2025/
LOCATION:Scandic Hell\, Værnes\, Sandfærhus 22\, Stjørdal\, 7570\, Norge
END:VEVENT
BEGIN:VEVENT
DTSTART;TZID=Europe/Oslo:20251120T110000
DTEND;TZID=Europe/Oslo:20251121T130000
DTSTAMP:20260420T125403
CREATED:20251020T112050Z
LAST-MODIFIED:20251113T111505Z
UID:906-1763636400-1763730000@naturdata.no
SUMMARY:Naturdatas viltkonferanse 2025
DESCRIPTION:Velkommen til Naturdatas viltkonferanse på Scandic Hell Stjørdal 20.-21. november 2025 \nNaturdatas viltkonferanse 2025 arrangeres 20. – 21. november på Scandic Hell Stjørdal \nProgram: \nTorsdag 20. november \n11.00  Oppmøte & registrering \n11.30  Lunsj \n12.30  Oppstart av program v/ Naturdata \nVilt praktisk kommunesamarbeid – erfaringer fra Viltforvaltningsrådet Salten v/ Gunnar Svalbjørg\, viltforvalter i Steigen kommune \nJegers ansvar ved skytetrening og håndtering av våpen v/ Anne-Britt Sollie Fladvad\nNasjonal 15m Jaktfeltcup \nAktiv rådyrforvalting etter bestandsplan v/ Kristian Berglund\, viltforvalter \nKompetansesenter for ettersøk v/ Øyvind Juliussen\, Skogkurs \nProsjekt WILDETECT: Kan bruk av sensorer\, data og maskinlæring hjelpe oss å beskytte både mennesker og dyr – og gjøre transporten tryggere for alle?  v/Terje Moen\, SINTEF \n Hvordan gjennomføre riktig avskytning i nye hjorteområder – Johan Trygve Solheim \n19.00   Middag \n  \nFredag 21. november \n09.00 Nytt fra Landbruksdirektoratet og gjennomgang av Hjorteviltstrategien v/ Runar Myrvang \nOm jakt på smårovvilt v/Erik Schjøth-Waaler\, Jeger og fangstmann \nSkademareitt? Beiteskade på innmark og barkgnag på gran v/ Even Unsgård\, Nibio \nForprosjekt Evaluering av regionale og kommunale planer i villreinfjellet  v/ Einy Brænd\, Norsk villreinsenter \nSkal Norturas eller Darwin lære styre viltforvaltningen? – kåseri med film og bilder v/ Arne Nævra \n13.00  Lunsj og avreise
URL:https://naturdata.no/arrangement/naturdatas-viltkonferanse-2025-2/
LOCATION:Scandic Hell\, Værnes\, Sandfærhus 22\, Stjørdal\, 7570\, Norge
END:VEVENT
END:VCALENDAR